BEGIN:VCALENDAR
VERSION:2.0
PRODID:-//Tri-County STEMersion - ECPv6.0.2//NONSGML v1.0//EN
CALSCALE:GREGORIAN
METHOD:PUBLISH
X-ORIGINAL-URL:https://tricountystemersion.com
X-WR-CALDESC:Events for Tri-County STEMersion
REFRESH-INTERVAL;VALUE=DURATION:PT1H
X-Robots-Tag:noindex
X-PUBLISHED-TTL:PT1H
BEGIN:VTIMEZONE
TZID:America/New_York
BEGIN:DAYLIGHT
TZOFFSETFROM:-0500
TZOFFSETTO:-0400
TZNAME:EDT
DTSTART:20220313T070000
END:DAYLIGHT
BEGIN:STANDARD
TZOFFSETFROM:-0400
TZOFFSETTO:-0500
TZNAME:EST
DTSTART:20221106T060000
END:STANDARD
END:VTIMEZONE
BEGIN:VEVENT
DTSTART;TZID=America/New_York:20221122T123000
DTEND;TZID=America/New_York:20221122T180000
DTSTAMP:20260425T071621
CREATED:20221101T174017Z
LAST-MODIFIED:20221101T174745Z
UID:10000068-1669120200-1669140000@tricountystemersion.com
SUMMARY:Save the Date: January 22\, 2023 | Lady Cougars Basketball STEM Education Day
DESCRIPTION:[vc_row][vc_column][vc_column_text]Join us for the 10th annual STEM Education Day at Women’s Basketball\, presented by the College of Charleston School of Sciences and Mathematics. Experience hands-on activities and demonstrations related to science\, technology\, engineering and math by College of Charleston Faculty as well as local STEM organizations and then enjoy the Lady Cougars basketball game. \nWhat: STEM hands-on activities and demonstrations \nWhere: College of Charleston TD Arena \nWhen: Sunday\, January 22\, 2023\nSTEM Activities: 12:30 PM\nGame: 2 PM \nWho: Open to the Charleston Community \nCost: FREE \nQuestions/Comments: Contact Quentin at mouserq@cofc.edu[/vc_column_text]Learn More and Register[/vc_column][/vc_row]
URL:https://tricountystemersion.com/events/industry-tours-speaking-activities-copy/2022-11-22/
LOCATION:TD Arena\, 301 Meeting St\, Charleston\, 29401\, United States
ATTACH;FMTTYPE=image/png:https://tricountystemersion.com/wp-content/uploads/2022/11/save-date-lady-cougars-stem-event.png
END:VEVENT
END:VCALENDAR